BEGIN:VCALENDAR
VERSION:2.0
PRODID:-//Jugend für das Leben - ECPv6.15.20//NONSGML v1.0//EN
CALSCALE:GREGORIAN
METHOD:PUBLISH
X-WR-CALNAME:Jugend für das Leben
X-ORIGINAL-URL:https://jugendfuerdasleben.at
X-WR-CALDESC:Veranstaltungen für Jugend für das Leben
REFRESH-INTERVAL;VALUE=DURATION:PT1H
X-Robots-Tag:noindex
X-PUBLISHED-TTL:PT1H
BEGIN:VTIMEZONE
TZID:Europe/Berlin
BEGIN:DAYLIGHT
TZOFFSETFROM:+0100
TZOFFSETTO:+0200
TZNAME:CEST
DTSTART:20250330T010000
END:DAYLIGHT
BEGIN:STANDARD
TZOFFSETFROM:+0200
TZOFFSETTO:+0100
TZNAME:CET
DTSTART:20251026T010000
END:STANDARD
BEGIN:DAYLIGHT
TZOFFSETFROM:+0100
TZOFFSETTO:+0200
TZNAME:CEST
DTSTART:20260329T010000
END:DAYLIGHT
BEGIN:STANDARD
TZOFFSETFROM:+0200
TZOFFSETTO:+0100
TZNAME:CET
DTSTART:20261025T010000
END:STANDARD
BEGIN:DAYLIGHT
TZOFFSETFROM:+0100
TZOFFSETTO:+0200
TZNAME:CEST
DTSTART:20270328T010000
END:DAYLIGHT
BEGIN:STANDARD
TZOFFSETFROM:+0200
TZOFFSETTO:+0100
TZNAME:CET
DTSTART:20271031T010000
END:STANDARD
END:VTIMEZONE
BEGIN:VEVENT
DTSTART;TZID=Europe/Berlin:20260425T151500
DTEND;TZID=Europe/Berlin:20260425T170000
DTSTAMP:20260424T091327
CREATED:20260105T143729Z
LAST-MODIFIED:20260226T140828Z
UID:3668-1777130100-1777136400@jugendfuerdasleben.at
SUMMARY:Marsch fürs Leben Salzburg 2026
DESCRIPTION:Es ist wieder Zeit\, in Salzburg für unsere ungeborenen Mitmenschen einzustehen! \nKommt zum Marsch fürs Leben in der Landeshauptstadt Salzburg am Samstag\, den 25. April 2026 und feiert mit uns das Leben! \n15:15 Uhr: Treffpunkt zum Marsch vor der Franziskanerkirche (Sigmund-Haffner-Gasse) \nFür alle\, die möchten\, wird vorher in der Franziskanerkirche ein Rosenkranz gebetet (13:30) und eine Hl. Messe gefeiert (14:00).
URL:https://jugendfuerdasleben.at/event/marsch-fuers-leben-salzburg-2026/
ATTACH;FMTTYPE=image/jpeg:https://jugendfuerdasleben.at/wp-content/uploads/2026/01/WhatsApp-Image-2026-01-05-at-12.53.51.jpeg
END:VEVENT
END:VCALENDAR